BEGIN:VCALENDAR
VERSION:2.0
PRODID:-//Tukios.com/
BEGIN:VEVENT
UID:194ac082-6bd5-4d7f-989a-fdca5eae036e@www.whitesfuneral.com
DTSTAMP:20260421T235758Z
DTSTART:20260429T183000Z
DTEND:20260429T193000Z
SUMMARY:Graveside Service
DESCRIPTION:
URL:https://www.whitesfuneral.com/obituaries/tracey-dobbins
LOCATION:    Weatherford TX 76088
GEO:32.8039401;-98.0048394
END:VEVENT
END:VCALENDAR