BEGIN:VCALENDAR
VERSION:2.0
PRODID:-//Tukios.com/
BEGIN:VEVENT
UID:0b7fc90b-8405-46e9-9e1a-b7274c3abac1@www.whitesfuneral.com
DTSTAMP:20260422T000320Z
DTSTART:20260428T230000Z
DTEND:20260429T010000Z
SUMMARY:Visitation
DESCRIPTION:
URL:https://www.whitesfuneral.com/obituaries/tracey-dobbins
LOCATION: 130 Houston Ave  Weatherford TX 76086
GEO:32.7576334;-97.798375
END:VEVENT
END:VCALENDAR