BEGIN:VCALENDAR
VERSION:2.0
PRODID:-//Tukios.com/
BEGIN:VEVENT
UID:3c59625a-0aa2-48ce-b5c3-a0232482114d@www.whitesfuneral.com
DTSTAMP:20260422T015304Z
DTSTART:20260427
SUMMARY:Interment
DESCRIPTION:
URL:https://www.whitesfuneral.com/obituaries/ted-gray
LOCATION: 5600 Mineral Wells Highway  Weatherford TX 76088
GEO:32.778334;-97.8953352
END:VEVENT
END:VCALENDAR