BEGIN:VCALENDAR
VERSION:2.0
PRODID:-//Tukios.com/
BEGIN:VEVENT
UID:2416870e-dddb-4517-9040-daa47ed3c6aa@www.whitesfuneral.com
DTSTAMP:20260422T015227Z
DTSTART:20260427T180000Z
DTEND:20260427T190000Z
SUMMARY:Funeral Service
DESCRIPTION:
URL:https://www.whitesfuneral.com/obituaries/ted-gray
LOCATION:Church of God Campground 2440 Fort Worth Highway  Weatherford TX 
	76087
GEO:32.7556495;-97.7317657
END:VEVENT
END:VCALENDAR