BEGIN:VCALENDAR
VERSION:2.0
PRODID:-//Tukios.com/
BEGIN:VEVENT
UID:63c59a56-d69f-46dd-8426-f7312a7bc73d@www.whitesfuneral.com
DTSTAMP:20260422T015026Z
DTSTART:20260426T220000Z
DTEND:20260427T000000Z
SUMMARY:Visitation
DESCRIPTION:
URL:https://www.whitesfuneral.com/obituaries/ted-gray
LOCATION: 130 Houston Avenue  Weatherford TX 76086
GEO:32.7575882;-97.7983397
END:VEVENT
END:VCALENDAR