BEGIN:VCALENDAR
VERSION:2.0
PRODID:-//Tukios.com/
BEGIN:VEVENT
UID:29583bd8-86e0-42ab-9a46-556c59ad7b6c@www.whitesfuneral.com
DTSTAMP:20260420T223657Z
DTSTART:20260423
SUMMARY:Interment
DESCRIPTION:
URL:https://www.whitesfuneral.com/obituaries/judy-thouvenel
LOCATION: 2667 West Farm to Market 5  Annetta TX 76008
GEO:32.7122726;-97.6771941
END:VEVENT
END:VCALENDAR