BEGIN:VCALENDAR
VERSION:2.0
PRODID:-//Tukios.com/
BEGIN:VEVENT
UID:d69267f0-19e4-4226-871c-519ec10cfecf@www.whitesfuneral.com
DTSTAMP:20260420T223343Z
DTSTART:20260423T190000Z
DTEND:20260423T200000Z
SUMMARY:Funeral Service
DESCRIPTION:
URL:https://www.whitesfuneral.com/obituaries/judy-thouvenel
LOCATION:Parker County Cowboy Church 5050 Farm to Market 5  Aledo TX 
	76008
GEO:32.6702106;-97.6592192
END:VEVENT
END:VCALENDAR