BEGIN:VCALENDAR
VERSION:2.0
PRODID:-//Tukios.com/
BEGIN:VEVENT
UID:54365171-20df-48a8-b2cf-c33ee29c393c@www.whitesfuneral.com
DTSTAMP:20260420T223657Z
DTSTART:20260422T230000Z
DTEND:20260423T010000Z
SUMMARY:Visitation
DESCRIPTION:
URL:https://www.whitesfuneral.com/obituaries/judy-thouvenel
LOCATION:White's Funeral Home 130 Houston Avenue  Weatherford TX 76086
GEO:32.7575882;-97.7983397
END:VEVENT
END:VCALENDAR