BEGIN:VCALENDAR
VERSION:2.0
PRODID:-//Tukios.com/
BEGIN:VEVENT
UID:05e0817d-e239-4c2c-8587-e34424c66d37@www.whitesfuneral.com
DTSTAMP:20260422T015635Z
DTSTART:20260507T183000Z
DTEND:20260507T193000Z
SUMMARY:Interment
DESCRIPTION:
URL:https://www.whitesfuneral.com/obituaries/jane-larsen
LOCATION: 2000 Mountain Creek Parkway  Dallas TX 75211
GEO:32.7156123;-96.9421747
END:VEVENT
END:VCALENDAR