BEGIN:VCALENDAR
VERSION:2.0
PRODID:-//Tukios.com/
BEGIN:VEVENT
UID:517c9879-2017-4ca4-8bb2-418f821849ef@www.whitesfuneral.com
DTSTAMP:20260422T015720Z
DTSTART:20260501T150000Z
DTEND:20260501T160000Z
SUMMARY:Funeral Service
DESCRIPTION:
URL:https://www.whitesfuneral.com/obituaries/jane-larsen
LOCATION:Cross Timbers Baptist Church 601 Ranch House Road  Willow Park 
	TX 76087
GEO:32.745704;-97.6374092
END:VEVENT
END:VCALENDAR