BEGIN:VCALENDAR
VERSION:2.0
PRODID:-//Tukios.com/
BEGIN:VEVENT
UID:3043be2f-5be3-49f7-82c3-005c5950c7cf@www.whitesfuneral.com
DTSTAMP:20260422T020059Z
DTSTART:20260430T230000Z
DTEND:20260501T010000Z
SUMMARY:Visitation
DESCRIPTION:
URL:https://www.whitesfuneral.com/obituaries/jane-larsen
LOCATION: 130 Houston Avenue  Weatherford TX 76086
GEO:32.7575882;-97.7983397
END:VEVENT
END:VCALENDAR